BEGIN:VCALENDAR
VERSION:2.0
PRODID:-//Legacy Bay HOA - ECPv6.15.20//NONSGML v1.0//EN
CALSCALE:GREGORIAN
METHOD:PUBLISH
X-ORIGINAL-URL:https://legacybayhoa.org
X-WR-CALDESC:Events for Legacy Bay HOA
REFRESH-INTERVAL;VALUE=DURATION:PT1H
X-Robots-Tag:noindex
X-PUBLISHED-TTL:PT1H
BEGIN:VTIMEZONE
TZID:America/New_York
BEGIN:DAYLIGHT
TZOFFSETFROM:-0500
TZOFFSETTO:-0400
TZNAME:EDT
DTSTART:20250309T070000
END:DAYLIGHT
BEGIN:STANDARD
TZOFFSETFROM:-0400
TZOFFSETTO:-0500
TZNAME:EST
DTSTART:20251102T060000
END:STANDARD
BEGIN:DAYLIGHT
TZOFFSETFROM:-0500
TZOFFSETTO:-0400
TZNAME:EDT
DTSTART:20260308T070000
END:DAYLIGHT
BEGIN:STANDARD
TZOFFSETFROM:-0400
TZOFFSETTO:-0500
TZNAME:EST
DTSTART:20261101T060000
END:STANDARD
BEGIN:DAYLIGHT
TZOFFSETFROM:-0500
TZOFFSETTO:-0400
TZNAME:EDT
DTSTART:20270314T070000
END:DAYLIGHT
BEGIN:STANDARD
TZOFFSETFROM:-0400
TZOFFSETTO:-0500
TZNAME:EST
DTSTART:20271107T060000
END:STANDARD
END:VTIMEZONE
BEGIN:VEVENT
DTSTART;TZID=America/New_York:20260314T090000
DTEND;TZID=America/New_York:20260314T110000
DTSTAMP:20260424T171030
CREATED:20260111T205838Z
LAST-MODIFIED:20260113T192346Z
UID:3824-1773478800-1773486000@legacybayhoa.org
SUMMARY:Pancake Breakfast
DESCRIPTION:  \n  \n  \nSORRY ...  \nThe content you are trying to access is reserved  \nfor Legacy Bay HOA members only.  \nLogin \nRequest Access \n  \n 
URL:https://legacybayhoa.org/event/pancake-breakfast-2/
ORGANIZER;CN="Jeannie Sims":MAILTO:jeanlsims.js@gmail.com
END:VEVENT
BEGIN:VEVENT
DTSTART;TZID=America/New_York:20260328T090000
DTEND;TZID=America/New_York:20260328T180000
DTSTAMP:20260424T171030
CREATED:20260213T000429Z
LAST-MODIFIED:20260323T162620Z
UID:3848-1774688400-1774720800@legacybayhoa.org
SUMMARY:Reserved - Larry Thomas - Private Event
DESCRIPTION:  \n  \n  \nSORRY ...  \nThe content you are trying to access is reserved  \nfor Legacy Bay HOA members only.  \nLogin \nRequest Access \n  \n 
URL:https://legacybayhoa.org/event/reserved-larry-thomas-private-event/
LOCATION:Legacy Bay Clubhouse\, 6035 Paradise Cove Drive\, Mooresburg\, TN\, 37811\, United States
CATEGORIES:Birthday,Private Event
END:VEVENT
END:VCALENDAR