BEGIN:VCALENDAR
VERSION:2.0
PRODID:-//Legacy Bay HOA - ECPv6.15.20//NONSGML v1.0//EN
CALSCALE:GREGORIAN
METHOD:PUBLISH
X-ORIGINAL-URL:https://legacybayhoa.org
X-WR-CALDESC:Events for Legacy Bay HOA
REFRESH-INTERVAL;VALUE=DURATION:PT1H
X-Robots-Tag:noindex
X-PUBLISHED-TTL:PT1H
BEGIN:VTIMEZONE
TZID:America/New_York
BEGIN:DAYLIGHT
TZOFFSETFROM:-0500
TZOFFSETTO:-0400
TZNAME:EDT
DTSTART:20220313T070000
END:DAYLIGHT
BEGIN:STANDARD
TZOFFSETFROM:-0400
TZOFFSETTO:-0500
TZNAME:EST
DTSTART:20221106T060000
END:STANDARD
BEGIN:DAYLIGHT
TZOFFSETFROM:-0500
TZOFFSETTO:-0400
TZNAME:EDT
DTSTART:20230312T070000
END:DAYLIGHT
BEGIN:STANDARD
TZOFFSETFROM:-0400
TZOFFSETTO:-0500
TZNAME:EST
DTSTART:20231105T060000
END:STANDARD
BEGIN:DAYLIGHT
TZOFFSETFROM:-0500
TZOFFSETTO:-0400
TZNAME:EDT
DTSTART:20240310T070000
END:DAYLIGHT
BEGIN:STANDARD
TZOFFSETFROM:-0400
TZOFFSETTO:-0500
TZNAME:EST
DTSTART:20241103T060000
END:STANDARD
BEGIN:DAYLIGHT
TZOFFSETFROM:-0500
TZOFFSETTO:-0400
TZNAME:EDT
DTSTART:20250309T070000
END:DAYLIGHT
BEGIN:STANDARD
TZOFFSETFROM:-0400
TZOFFSETTO:-0500
TZNAME:EST
DTSTART:20251102T060000
END:STANDARD
END:VTIMEZONE
BEGIN:VEVENT
DTSTART;TZID=America/New_York:20231023T183000
DTEND;TZID=America/New_York:20231023T203000
DTSTAMP:20260425T071634
CREATED:20231009T211627Z
LAST-MODIFIED:20240706T002626Z
UID:3115-1698085800-1698093000@legacybayhoa.org
SUMMARY:Bingo Night with Joan - Our Numbers Caller
DESCRIPTION:  \n  \n  \nSORRY ...  \nThe content you are trying to access is reserved  \nfor Legacy Bay HOA members only.  \nLogin \nRequest Access \n  \n 
URL:https://legacybayhoa.org/event/bingo-night-with-joan-our-numbers-caller/
CATEGORIES:Fun & Games
ORGANIZER;CN="Jeannie Sims":MAILTO:jeanlsims.js@gmail.com
END:VEVENT
BEGIN:VEVENT
DTSTART;TZID=America/New_York:20231104T180000
DTEND;TZID=America/New_York:20231104T220000
DTSTAMP:20260425T071634
CREATED:20230213T201659Z
LAST-MODIFIED:20231013T200813Z
UID:2916-1699120800-1699135200@legacybayhoa.org
SUMMARY:Souper Supper and Donation Kickoff Party
DESCRIPTION:  \n  \n  \nSORRY ...  \nThe content you are trying to access is reserved  \nfor Legacy Bay HOA members only.  \nLogin \nRequest Access \n  \n 
URL:https://legacybayhoa.org/event/souper-supper-and-donation-kickoff-party/
LOCATION:Legacy Bay Clubhouse\, 6035 Paradise Cove Drive\, Mooresburg\, TN\, 37811\, United States
CATEGORIES:Fun & Games,Socializing
END:VEVENT
BEGIN:VEVENT
DTSTART;TZID=America/New_York:20231202T120000
DTEND;TZID=America/New_York:20231202T150000
DTSTAMP:20260425T071634
CREATED:20230213T202026Z
LAST-MODIFIED:20231111T201850Z
UID:2918-1701518400-1701529200@legacybayhoa.org
SUMMARY:Luncheon and Cookie exchange
DESCRIPTION:  \n  \n  \nSORRY ...  \nThe content you are trying to access is reserved  \nfor Legacy Bay HOA members only.  \nLogin \nRequest Access \n  \n 
URL:https://legacybayhoa.org/event/cookie-exchange-and-luncheon/
LOCATION:Legacy Bay Clubhouse\, 6035 Paradise Cove Drive\, Mooresburg\, TN\, 37811\, United States
CATEGORIES:Fun & Games
ORGANIZER;CN="Jeannie Sims":MAILTO:jeanlsims.js@gmail.com
END:VEVENT
BEGIN:VEVENT
DTSTART;TZID=America/New_York:20231209T170000
DTEND;TZID=America/New_York:20231209T220000
DTSTAMP:20260425T071634
CREATED:20231028T131421Z
LAST-MODIFIED:20231028T132109Z
UID:3122-1702141200-1702159200@legacybayhoa.org
SUMMARY:Private Event -- reserved by Kris Heefner
DESCRIPTION:  \n  \n  \nSORRY ...  \nThe content you are trying to access is reserved  \nfor Legacy Bay HOA members only.  \nLogin \nRequest Access \n  \n 
URL:https://legacybayhoa.org/event/private-event-reserved-by-kris-heefner/
LOCATION:Legacy Bay Clubhouse\, 6035 Paradise Cove Drive\, Mooresburg\, TN\, 37811\, United States
END:VEVENT
BEGIN:VEVENT
DTSTART;TZID=America/New_York:20231210T100000
DTEND;TZID=America/New_York:20231210T170000
DTSTAMP:20260425T071634
CREATED:20231120T233042Z
LAST-MODIFIED:20231120T233114Z
UID:3134-1702202400-1702227600@legacybayhoa.org
SUMMARY:Private Event — reserved by Tina Duty
DESCRIPTION:  \n  \n  \nSORRY ...  \nThe content you are trying to access is reserved  \nfor Legacy Bay HOA members only.  \nLogin \nRequest Access \n  \n 
URL:https://legacybayhoa.org/event/private-event-reserved-by-tina-duty/
LOCATION:Legacy Bay Clubhouse\, 6035 Paradise Cove Drive\, Mooresburg\, TN\, 37811\, United States
END:VEVENT
BEGIN:VEVENT
DTSTART;TZID=America/New_York:20231216T180000
DTEND;TZID=America/New_York:20231216T220000
DTSTAMP:20260425T071634
CREATED:20230213T205128Z
LAST-MODIFIED:20231111T202315Z
UID:2920-1702749600-1702764000@legacybayhoa.org
SUMMARY:Legacy Bay Potluck Christmas Party
DESCRIPTION:  \n  \n  \nSORRY ...  \nThe content you are trying to access is reserved  \nfor Legacy Bay HOA members only.  \nLogin \nRequest Access \n  \n 
URL:https://legacybayhoa.org/event/potluck-christmas-party/
LOCATION:Legacy Bay Clubhouse\, 6035 Paradise Cove Drive\, Mooresburg\, TN\, 37811\, United States
CATEGORIES:Fun & Games,Socializing
END:VEVENT
BEGIN:VEVENT
DTSTART;TZID=America/New_York:20240113T110000
DTEND;TZID=America/New_York:20240113T120000
DTSTAMP:20260425T071634
CREATED:20240106T215404Z
LAST-MODIFIED:20240706T002952Z
UID:3154-1705143600-1705147200@legacybayhoa.org
SUMMARY:Social Committe Meeting
DESCRIPTION:  \n  \n  \nSORRY ...  \nThe content you are trying to access is reserved  \nfor Legacy Bay HOA members only.  \nLogin \nRequest Access \n  \n 
URL:https://legacybayhoa.org/event/social-committe-meeting-2/
CATEGORIES:Meeting
ORGANIZER;CN="Jeannie Sims":MAILTO:jeanlsims.js@gmail.com
END:VEVENT
BEGIN:VEVENT
DTSTART;TZID=America/New_York:20240227T183000
DTEND;TZID=America/New_York:20240227T210000
DTSTAMP:20260425T071634
CREATED:20240130T225324Z
LAST-MODIFIED:20240706T003044Z
UID:3191-1709058600-1709067600@legacybayhoa.org
SUMMARY:FREE Bingo with Joan
DESCRIPTION:  \n  \n  \nSORRY ...  \nThe content you are trying to access is reserved  \nfor Legacy Bay HOA members only.  \nLogin \nRequest Access \n  \n 
URL:https://legacybayhoa.org/event/free-bingo-with-joan/
CATEGORIES:Fun & Games,Socializing
ORGANIZER;CN="Jeannie Sims":MAILTO:jeanlsims.js@gmail.com
END:VEVENT
BEGIN:VEVENT
DTSTART;TZID=America/New_York:20240316T180000
DTEND;TZID=America/New_York:20240316T220000
DTSTAMP:20260425T071634
CREATED:20240115T171123Z
LAST-MODIFIED:20240706T003132Z
UID:3161-1710612000-1710626400@legacybayhoa.org
SUMMARY:St. Patrick's Day Potluck
DESCRIPTION:  \n  \n  \nSORRY ...  \nThe content you are trying to access is reserved  \nfor Legacy Bay HOA members only.  \nLogin \nRequest Access \n  \n 
URL:https://legacybayhoa.org/event/st-patricks-day-potluck/
LOCATION:Legacy Bay Clubhouse\, 6035 Paradise Cove Drive\, Mooresburg\, TN\, 37811\, United States
CATEGORIES:Fun & Games
END:VEVENT
BEGIN:VEVENT
DTSTART;TZID=America/New_York:20240406T090000
DTEND;TZID=America/New_York:20240406T130000
DTSTAMP:20260425T071634
CREATED:20240320T175102Z
LAST-MODIFIED:20240706T003226Z
UID:3200-1712394000-1712408400@legacybayhoa.org
SUMMARY:Legacy Bay Lake Cleanup
DESCRIPTION:  \n  \n  \nSORRY ...  \nThe content you are trying to access is reserved  \nfor Legacy Bay HOA members only.  \nLogin \nRequest Access \n  \n 
URL:https://legacybayhoa.org/event/legacy-bay-lake-cleanup/
END:VEVENT
BEGIN:VEVENT
DTSTART;TZID=America/New_York:20240420T110000
DTEND;TZID=America/New_York:20240420T120000
DTSTAMP:20260425T071634
CREATED:20240413T181137Z
LAST-MODIFIED:20240706T003312Z
UID:3219-1713610800-1713614400@legacybayhoa.org
SUMMARY:Social Committee Meeting
DESCRIPTION:  \n  \n  \nSORRY ...  \nThe content you are trying to access is reserved  \nfor Legacy Bay HOA members only.  \nLogin \nRequest Access \n  \n 
URL:https://legacybayhoa.org/event/social-committee-meeting-4/
CATEGORIES:Committee Meeting
END:VEVENT
BEGIN:VEVENT
DTSTART;TZID=America/New_York:20240425T183000
DTEND;TZID=America/New_York:20240425T200000
DTSTAMP:20260425T071634
CREATED:20240409T190035Z
LAST-MODIFIED:20240409T190035Z
UID:3208-1714069800-1714075200@legacybayhoa.org
SUMMARY:Board Meeting
DESCRIPTION:  \n  \n  \nSORRY ...  \nThe content you are trying to access is reserved  \nfor Legacy Bay HOA members only.  \nLogin \nRequest Access \n  \n 
URL:https://legacybayhoa.org/event/board-meeting/
LOCATION:Legacy Bay Clubhouse\, 6035 Paradise Cove Drive\, Mooresburg\, TN\, 37811\, United States
CATEGORIES:Board Meeting
END:VEVENT
BEGIN:VEVENT
DTSTART;TZID=America/New_York:20240504T170000
DTEND;TZID=America/New_York:20240504T210000
DTSTAMP:20260425T071634
CREATED:20240120T221957Z
LAST-MODIFIED:20240706T003437Z
UID:3172-1714842000-1714856400@legacybayhoa.org
SUMMARY:Kentucky Derby Potluck
DESCRIPTION:  \n  \n  \nSORRY ...  \nThe content you are trying to access is reserved  \nfor Legacy Bay HOA members only.  \nLogin \nRequest Access \n  \n 
URL:https://legacybayhoa.org/event/kentucky-derby-potluck/
LOCATION:Legacy Bay Clubhouse\, 6035 Paradise Cove Drive\, Mooresburg\, TN\, 37811\, United States
CATEGORIES:Fun & Games,Socializing
END:VEVENT
BEGIN:VEVENT
DTSTART;VALUE=DATE:20240511
DTEND;VALUE=DATE:20240512
DTSTAMP:20260425T071634
CREATED:20240409T190409Z
LAST-MODIFIED:20240409T190409Z
UID:3210-1715385600-1715471999@legacybayhoa.org
SUMMARY:Private Event - Christophe Bénichou
DESCRIPTION:  \n  \n  \nSORRY ...  \nThe content you are trying to access is reserved  \nfor Legacy Bay HOA members only.  \nLogin \nRequest Access \n  \n 
URL:https://legacybayhoa.org/event/private-event-christophe-benichou/
END:VEVENT
BEGIN:VEVENT
DTSTART;TZID=America/New_York:20240615T160000
DTEND;TZID=America/New_York:20240615T210000
DTSTAMP:20260425T071634
CREATED:20240518T015438Z
LAST-MODIFIED:20240518T015438Z
UID:3228-1718467200-1718485200@legacybayhoa.org
SUMMARY:Private Event - David Mooneyham
DESCRIPTION:  \n  \n  \nSORRY ...  \nThe content you are trying to access is reserved  \nfor Legacy Bay HOA members only.  \nLogin \nRequest Access \n  \n 
URL:https://legacybayhoa.org/event/private-event-david-mooneyham/
LOCATION:Legacy Bay Clubhouse/Pool
END:VEVENT
BEGIN:VEVENT
DTSTART;TZID=America/New_York:20240622T100000
DTEND;TZID=America/New_York:20240622T110000
DTSTAMP:20260425T071634
CREATED:20240529T193742Z
LAST-MODIFIED:20240706T003633Z
UID:3238-1719050400-1719054000@legacybayhoa.org
SUMMARY:UT East TN Environmental Educators Workshop at 10:00 am
DESCRIPTION:  \n  \n  \nSORRY ...  \nThe content you are trying to access is reserved  \nfor Legacy Bay HOA members only.  \nLogin \nRequest Access \n  \n 
URL:https://legacybayhoa.org/event/ut-east-tn-environmental-educators-workshop-at-1000-am/
LOCATION:Legacy Bay Clubhouse\, 6035 Paradise Cove Drive\, Mooresburg\, TN\, 37811\, United States
END:VEVENT
BEGIN:VEVENT
DTSTART;TZID=America/New_York:20240704T183000
DTEND;TZID=America/New_York:20240704T193000
DTSTAMP:20260425T071634
CREATED:20240607T211817Z
LAST-MODIFIED:20240706T003731Z
UID:3253-1720117800-1720121400@legacybayhoa.org
SUMMARY:Legacy Bay 4th of July Annual Cart/ Bike Parade
DESCRIPTION:  \n  \n  \nSORRY ...  \nThe content you are trying to access is reserved  \nfor Legacy Bay HOA members only.  \nLogin \nRequest Access \n  \n 
URL:https://legacybayhoa.org/event/legacy-bay-july-freedom-cart-bike-parade/
CATEGORIES:Socializing
END:VEVENT
BEGIN:VEVENT
DTSTART;TZID=America/New_York:20240718T120000
DTEND;TZID=America/New_York:20240718T140000
DTSTAMP:20260425T071634
CREATED:20240709T001736Z
LAST-MODIFIED:20240709T002605Z
UID:3322-1721304000-1721311200@legacybayhoa.org
SUMMARY:Private Yoga Luncheon
DESCRIPTION:  \n  \n  \nSORRY ...  \nThe content you are trying to access is reserved  \nfor Legacy Bay HOA members only.  \nLogin \nRequest Access \n  \n 
URL:https://legacybayhoa.org/event/private-yoga-luncheon/
LOCATION:Legacy Bay Clubhouse\, 6035 Paradise Cove Drive\, Mooresburg\, TN\, 37811\, United States
CATEGORIES:Meals,Private Event
END:VEVENT
BEGIN:VEVENT
DTSTART;TZID=America/New_York:20240803T103000
DTEND;TZID=America/New_York:20240803T103000
DTSTAMP:20260425T071634
CREATED:20240705T233943Z
LAST-MODIFIED:20240705T234754Z
UID:3287-1722681000-1722681000@legacybayhoa.org
SUMMARY:2024 Annual Meeting
DESCRIPTION:  \n  \n  \nSORRY ...  \nThe content you are trying to access is reserved  \nfor Legacy Bay HOA members only.  \nLogin \nRequest Access \n  \n 
URL:https://legacybayhoa.org/event/2024-annual-meeting/
LOCATION:Legacy Bay Clubhouse\, 6035 Paradise Cove Drive\, Mooresburg\, TN\, 37811\, United States
CATEGORIES:Meeting
ORGANIZER;CN="Legacy Bay BOD":MAILTO:bod@legacybayhoa.org
END:VEVENT
BEGIN:VEVENT
DTSTART;TZID=America/New_York:20240820T160000
DTEND;TZID=America/New_York:20240820T180000
DTSTAMP:20260425T071635
CREATED:20240802T160613Z
LAST-MODIFIED:20240802T160613Z
UID:3363-1724169600-1724176800@legacybayhoa.org
SUMMARY:In Loving Memory of Kim Quaco
DESCRIPTION:  \n  \n  \nSORRY ...  \nThe content you are trying to access is reserved  \nfor Legacy Bay HOA members only.  \nLogin \nRequest Access \n  \n 
URL:https://legacybayhoa.org/event/in-loving-memory-of-kim-quaco/
LOCATION:Legacy Bay Clubhouse\, 6035 Paradise Cove Drive\, Mooresburg\, TN\, 37811\, United States
ORGANIZER;CN="Jeannie Sims":MAILTO:jeanlsims.js@gmail.com
END:VEVENT
BEGIN:VEVENT
DTSTART;TZID=America/New_York:20240906T183000
DTEND;TZID=America/New_York:20240906T210000
DTSTAMP:20260425T071635
CREATED:20240903T165907Z
LAST-MODIFIED:20240905T164357Z
UID:3392-1725647400-1725656400@legacybayhoa.org
SUMMARY:LB Free BINGO
DESCRIPTION:  \n  \n  \nSORRY ...  \nThe content you are trying to access is reserved  \nfor Legacy Bay HOA members only.  \nLogin \nRequest Access \n  \n 
URL:https://legacybayhoa.org/event/lb-bingo/
CATEGORIES:Socializing
END:VEVENT
BEGIN:VEVENT
DTSTART;TZID=America/New_York:20240917T183000
DTEND;TZID=America/New_York:20240917T193000
DTSTAMP:20260425T071635
CREATED:20240911T150227Z
LAST-MODIFIED:20240911T150227Z
UID:3398-1726597800-1726601400@legacybayhoa.org
SUMMARY:Social Committee Meeting
DESCRIPTION:  \n  \n  \nSORRY ...  \nThe content you are trying to access is reserved  \nfor Legacy Bay HOA members only.  \nLogin \nRequest Access \n  \n 
URL:https://legacybayhoa.org/event/social-committee-meeting-5/
CATEGORIES:Committee Meeting
ORGANIZER;CN="Jeannie Sims":MAILTO:jeanlsims.js@gmail.com
END:VEVENT
BEGIN:VEVENT
DTSTART;TZID=America/New_York:20241019T180000
DTEND;TZID=America/New_York:20241019T210000
DTSTAMP:20260425T071635
CREATED:20241004T215810Z
LAST-MODIFIED:20241004T220137Z
UID:3418-1729360800-1729371600@legacybayhoa.org
SUMMARY:LB Annual Community Picnic
DESCRIPTION:  \n  \n  \nSORRY ...  \nThe content you are trying to access is reserved  \nfor Legacy Bay HOA members only.  \nLogin \nRequest Access \n  \n 
URL:https://legacybayhoa.org/event/lb-annual-community-picnic/
CATEGORIES:Meals
END:VEVENT
BEGIN:VEVENT
DTSTART;TZID=America/New_York:20241026T140000
DTEND;TZID=America/New_York:20241026T160000
DTSTAMP:20260425T071635
CREATED:20240626T010957Z
LAST-MODIFIED:20241014T205307Z
UID:3276-1729951200-1729958400@legacybayhoa.org
SUMMARY:Hawkins County Humane Society Auction
DESCRIPTION:  \n  \n  \nSORRY ...  \nThe content you are trying to access is reserved  \nfor Legacy Bay HOA members only.  \nLogin \nRequest Access \n  \n 
URL:https://legacybayhoa.org/event/hawkins-county-humane-society-auction/
CATEGORIES:Private Event
END:VEVENT
BEGIN:VEVENT
DTSTART;TZID=America/New_York:20241106T183000
DTEND;TZID=America/New_York:20241106T193000
DTSTAMP:20260425T071635
CREATED:20241029T210332Z
LAST-MODIFIED:20241029T210332Z
UID:3429-1730917800-1730921400@legacybayhoa.org
SUMMARY:Social Committe Meeting
DESCRIPTION:  \n  \n  \nSORRY ...  \nThe content you are trying to access is reserved  \nfor Legacy Bay HOA members only.  \nLogin \nRequest Access \n  \n 
URL:https://legacybayhoa.org/event/social-committe-meeting-3/
LOCATION:Legacy Bay Clubhouse\, 6035 Paradise Cove Drive\, Mooresburg\, TN\, 37811\, United States
CATEGORIES:Committee Meeting
ORGANIZER;CN="Jeannie Sims":MAILTO:jeanlsims.js@gmail.com
END:VEVENT
BEGIN:VEVENT
DTSTART;TZID=America/New_York:20241109T090000
DTEND;TZID=America/New_York:20241109T110000
DTSTAMP:20260425T071635
CREATED:20241004T155525Z
LAST-MODIFIED:20241021T212702Z
UID:3410-1731142800-1731150000@legacybayhoa.org
SUMMARY:Pancake Breakfast - Veterans Appreciation Day
DESCRIPTION:  \n  \n  \nSORRY ...  \nThe content you are trying to access is reserved  \nfor Legacy Bay HOA members only.  \nLogin \nRequest Access \n  \n 
URL:https://legacybayhoa.org/event/pancake-breakfast-veterans-appreciation-day/
CATEGORIES:Meals
ORGANIZER;CN="Jeannie Sims":MAILTO:jeanlsims.js@gmail.com
END:VEVENT
BEGIN:VEVENT
DTSTART;TZID=America/New_York:20241204T080000
DTEND;TZID=America/New_York:20241230T170000
DTSTAMP:20260425T071635
CREATED:20241205T221049Z
LAST-MODIFIED:20241205T221417Z
UID:3469-1733299200-1735578000@legacybayhoa.org
SUMMARY:Legacy Bay Annual Donation Drive
DESCRIPTION:  \n  \n  \nSORRY ...  \nThe content you are trying to access is reserved  \nfor Legacy Bay HOA members only.  \nLogin \nRequest Access \n  \n 
URL:https://legacybayhoa.org/event/legacy-bay-annual-donation-drive/
CATEGORIES:Announcement
END:VEVENT
BEGIN:VEVENT
DTSTART;TZID=America/New_York:20241207T110000
DTEND;TZID=America/New_York:20241207T153000
DTSTAMP:20260425T071635
CREATED:20240125T222825Z
LAST-MODIFIED:20241123T192639Z
UID:3189-1733569200-1733585400@legacybayhoa.org
SUMMARY:LB Christmas Luncheon and Cookie Exchange
DESCRIPTION:  \n  \n  \nSORRY ...  \nThe content you are trying to access is reserved  \nfor Legacy Bay HOA members only.  \nLogin \nRequest Access \n  \n 
URL:https://legacybayhoa.org/event/lb-christmas-luncheon-and-cookie-exchange/
CATEGORIES:Fun & Games
END:VEVENT
BEGIN:VEVENT
DTSTART;TZID=America/New_York:20241207T163000
DTEND;TZID=America/New_York:20241207T220000
DTSTAMP:20260425T071635
CREATED:20241106T153729Z
LAST-MODIFIED:20241123T192749Z
UID:3433-1733589000-1733608800@legacybayhoa.org
SUMMARY:Private Party
DESCRIPTION:  \n  \n  \nSORRY ...  \nThe content you are trying to access is reserved  \nfor Legacy Bay HOA members only.  \nLogin \nRequest Access \n  \n 
URL:https://legacybayhoa.org/event/private-party-3/
CATEGORIES:Private Event
END:VEVENT
BEGIN:VEVENT
DTSTART;TZID=America/New_York:20241214T140000
DTEND;TZID=America/New_York:20241214T160000
DTSTAMP:20260425T071635
CREATED:20241107T190458Z
LAST-MODIFIED:20241205T214444Z
UID:3439-1734184800-1734192000@legacybayhoa.org
SUMMARY:Christmas Open Houses
DESCRIPTION:  \n  \n  \nSORRY ...  \nThe content you are trying to access is reserved  \nfor Legacy Bay HOA members only.  \nLogin \nRequest Access \n  \n 
URL:https://legacybayhoa.org/event/christmas-open-houses/
LOCATION:LB Homes
CATEGORIES:Socializing
END:VEVENT
END:VCALENDAR