BEGIN:VCALENDAR
VERSION:2.0
PRODID:-//Legacy Bay HOA - ECPv6.15.20//NONSGML v1.0//EN
CALSCALE:GREGORIAN
METHOD:PUBLISH
X-WR-CALNAME:Legacy Bay HOA
X-ORIGINAL-URL:https://legacybayhoa.org
X-WR-CALDESC:Events for Legacy Bay HOA
REFRESH-INTERVAL;VALUE=DURATION:PT1H
X-Robots-Tag:noindex
X-PUBLISHED-TTL:PT1H
BEGIN:VTIMEZONE
TZID:America/New_York
BEGIN:DAYLIGHT
TZOFFSETFROM:-0500
TZOFFSETTO:-0400
TZNAME:EDT
DTSTART:20210314T070000
END:DAYLIGHT
BEGIN:STANDARD
TZOFFSETFROM:-0400
TZOFFSETTO:-0500
TZNAME:EST
DTSTART:20211107T060000
END:STANDARD
BEGIN:DAYLIGHT
TZOFFSETFROM:-0500
TZOFFSETTO:-0400
TZNAME:EDT
DTSTART:20220313T070000
END:DAYLIGHT
BEGIN:STANDARD
TZOFFSETFROM:-0400
TZOFFSETTO:-0500
TZNAME:EST
DTSTART:20221106T060000
END:STANDARD
BEGIN:DAYLIGHT
TZOFFSETFROM:-0500
TZOFFSETTO:-0400
TZNAME:EDT
DTSTART:20230312T070000
END:DAYLIGHT
BEGIN:STANDARD
TZOFFSETFROM:-0400
TZOFFSETTO:-0500
TZNAME:EST
DTSTART:20231105T060000
END:STANDARD
BEGIN:DAYLIGHT
TZOFFSETFROM:-0500
TZOFFSETTO:-0400
TZNAME:EDT
DTSTART:20240310T070000
END:DAYLIGHT
BEGIN:STANDARD
TZOFFSETFROM:-0400
TZOFFSETTO:-0500
TZNAME:EST
DTSTART:20241103T060000
END:STANDARD
END:VTIMEZONE
BEGIN:VEVENT
DTSTART;TZID=America/New_York:20220324T183000
DTEND;TZID=America/New_York:20220324T210000
DTSTAMP:20260425T113517
CREATED:20220309T022931Z
LAST-MODIFIED:20220920T021638Z
UID:2022-1648146600-1648155600@legacybayhoa.org
SUMMARY:Bingo Night
DESCRIPTION:  \n  \n  \nSORRY ...  \nThe content you are trying to access is reserved  \nfor Legacy Bay HOA members only.  \nLogin \nRequest Access \n  \n 
URL:https://legacybayhoa.org/event/bingo-night-2/
LOCATION:Legacy Bay Clubhouse\, 6035 Paradise Cove Drive\, Mooresburg\, TN\, 37811\, United States
CATEGORIES:Fun & Games
END:VEVENT
BEGIN:VEVENT
DTSTART;TZID=America/New_York:20220402T090000
DTEND;TZID=America/New_York:20220402T090000
DTSTAMP:20260425T113517
CREATED:20220309T024717Z
LAST-MODIFIED:20220920T021558Z
UID:2026-1648890000-1648890000@legacybayhoa.org
SUMMARY:Bob Vollman and Cherokee Lake Cleanup Day
DESCRIPTION:  \n  \n  \nSORRY ...  \nThe content you are trying to access is reserved  \nfor Legacy Bay HOA members only.  \nLogin \nRequest Access \n  \n 
URL:https://legacybayhoa.org/event/bob-vollman-and-cherokee-lake-cleanup-day/
LOCATION:Legacy Bay Boat Ramp\, 6035 Paradise Cove Drive\, Mooresburg\, TN\, 37811\, United States
CATEGORIES:Community Volunteering
END:VEVENT
BEGIN:VEVENT
DTSTART;TZID=America/New_York:20220409T180000
DTEND;TZID=America/New_York:20220409T210000
DTSTAMP:20260425T113517
CREATED:20220309T025047Z
LAST-MODIFIED:20220920T021519Z
UID:2030-1649527200-1649538000@legacybayhoa.org
SUMMARY:Spring Fling & 50/50 Drawing
DESCRIPTION:  \n  \n  \nSORRY ...  \nThe content you are trying to access is reserved  \nfor Legacy Bay HOA members only.  \nLogin \nRequest Access \n  \n 
URL:https://legacybayhoa.org/event/spring-fling-50-50-drawing/
LOCATION:Legacy Bay Clubhouse\, 6035 Paradise Cove Drive\, Mooresburg\, TN\, 37811\, United States
CATEGORIES:Socializing
END:VEVENT
BEGIN:VEVENT
DTSTART;TZID=America/New_York:20220507T160000
DTEND;TZID=America/New_York:20220507T190000
DTSTAMP:20260425T113517
CREATED:20220309T025746Z
LAST-MODIFIED:20220920T021430Z
UID:2032-1651939200-1651950000@legacybayhoa.org
SUMMARY:Legacy Bay Annual Kentucky Derby Party
DESCRIPTION:  \n  \n  \nSORRY ...  \nThe content you are trying to access is reserved  \nfor Legacy Bay HOA members only.  \nLogin \nRequest Access \n  \n 
URL:https://legacybayhoa.org/event/legacy-bay-annual-kentucky-derby-party/
LOCATION:Legacy Bay Clubhouse\, 6035 Paradise Cove Drive\, Mooresburg\, TN\, 37811\, United States
CATEGORIES:Socializing
END:VEVENT
BEGIN:VEVENT
DTSTART;TZID=America/New_York:20220704T170000
DTEND;TZID=America/New_York:20220704T170000
DTSTAMP:20260425T113517
CREATED:20220309T030031Z
LAST-MODIFIED:20220920T021312Z
UID:2034-1656954000-1656954000@legacybayhoa.org
SUMMARY:Legacy Bay Annual Decorated Cart / Bike Parade
DESCRIPTION:  \n  \n  \nSORRY ...  \nThe content you are trying to access is reserved  \nfor Legacy Bay HOA members only.  \nLogin \nRequest Access \n  \n 
URL:https://legacybayhoa.org/event/legacy-bay-annual-decorated-cart-bike-parade/
LOCATION:Legacy Bay Clubhouse\, 6035 Paradise Cove Drive\, Mooresburg\, TN\, 37811\, United States
CATEGORIES:Socializing
END:VEVENT
BEGIN:VEVENT
DTSTART;TZID=America/New_York:20220820T150000
DTEND;TZID=America/New_York:20220820T180000
DTSTAMP:20260425T113517
CREATED:20220807T225107Z
LAST-MODIFIED:20220920T021215Z
UID:2661-1661007600-1661018400@legacybayhoa.org
SUMMARY:Ice Cream Social
DESCRIPTION:  \n  \n  \nSORRY ...  \nThe content you are trying to access is reserved  \nfor Legacy Bay HOA members only.  \nLogin \nRequest Access \n  \n 
URL:https://legacybayhoa.org/event/ice-cream-social-and-farewell-party-for-clara-and-kelly/
LOCATION:Legacy Bay Clubhouse\, 6035 Paradise Cove Drive\, Mooresburg\, TN\, 37811\, United States
CATEGORIES:Socializing
END:VEVENT
BEGIN:VEVENT
DTSTART;VALUE=DATE:20221014
DTEND;VALUE=DATE:20221015
DTSTAMP:20260425T113517
CREATED:20220921T185350Z
LAST-MODIFIED:20220921T191458Z
UID:2730-1665705600-1665791999@legacybayhoa.org
SUMMARY:Pool Closing
DESCRIPTION:  \n  \n  \nSORRY ...  \nThe content you are trying to access is reserved  \nfor Legacy Bay HOA members only.  \nLogin \nRequest Access \n  \n 
URL:https://legacybayhoa.org/event/pool-closing/
LOCATION:Legacy Bay Pool\, 6035 Paradise Cove Dr\, Mooresburg\, TN\, 37811\, United States
CATEGORIES:Announcement
END:VEVENT
BEGIN:VEVENT
DTSTART;TZID=America/New_York:20221015T170000
DTEND;TZID=America/New_York:20221015T200000
DTSTAMP:20260425T113517
CREATED:20220917T153321Z
LAST-MODIFIED:20221010T195330Z
UID:2713-1665853200-1665864000@legacybayhoa.org
SUMMARY:Volunteer Appreciation Picnic
DESCRIPTION:  \n  \n  \nSORRY ...  \nThe content you are trying to access is reserved  \nfor Legacy Bay HOA members only.  \nLogin \nRequest Access \n  \n 
URL:https://legacybayhoa.org/event/volunteer-appreciation-picnic/
LOCATION:Legacy Bay Clubhouse\, 6035 Paradise Cove Drive\, Mooresburg\, TN\, 37811\, United States
CATEGORIES:Fun & Games,Socializing
END:VEVENT
BEGIN:VEVENT
DTSTART;TZID=America/New_York:20221029T180000
DTEND;TZID=America/New_York:20221029T210000
DTSTAMP:20260425T113517
CREATED:20221007T200049Z
LAST-MODIFIED:20221010T233551Z
UID:2776-1667066400-1667077200@legacybayhoa.org
SUMMARY:ANNUAL HALLOWEEN PARTY
DESCRIPTION:  \n  \n  \nSORRY ...  \nThe content you are trying to access is reserved  \nfor Legacy Bay HOA members only.  \nLogin \nRequest Access \n  \n 
URL:https://legacybayhoa.org/event/annual-halloween-party/
LOCATION:Legacy Bay Clubhouse\, 6035 Paradise Cove Drive\, Mooresburg\, TN\, 37811\, United States
CATEGORIES:Fun & Games
END:VEVENT
BEGIN:VEVENT
DTSTART;TZID=America/New_York:20221107T080000
DTEND;TZID=America/New_York:20221212T180000
DTSTAMP:20260425T113517
CREATED:20221105T221730Z
LAST-MODIFIED:20221105T223124Z
UID:2828-1667808000-1670868000@legacybayhoa.org
SUMMARY:Legacy Bay 2022 Charity Donations and Items
DESCRIPTION:  \n  \n  \nSORRY ...  \nThe content you are trying to access is reserved  \nfor Legacy Bay HOA members only.  \nLogin \nRequest Access \n  \n 
URL:https://legacybayhoa.org/event/legacy-bay-2022-charity-donations-and-items/
LOCATION:Legacy Bay Clubhouse\, 6035 Paradise Cove Drive\, Mooresburg\, TN\, 37811\, United States
CATEGORIES:Announcement
END:VEVENT
BEGIN:VEVENT
DTSTART;TZID=America/New_York:20221117T183000
DTEND;TZID=America/New_York:20221117T203000
DTSTAMP:20260425T113517
CREATED:20220921T191308Z
LAST-MODIFIED:20220921T191308Z
UID:2733-1668709800-1668717000@legacybayhoa.org
SUMMARY:LBHOA Working Board Meeting - Open
DESCRIPTION:  \n  \n  \nSORRY ...  \nThe content you are trying to access is reserved  \nfor Legacy Bay HOA members only.  \nLogin \nRequest Access \n  \n 
URL:https://legacybayhoa.org/event/lbhoa-working-board-meeting-open/
LOCATION:Legacy Bay Clubhouse\, 6035 Paradise Cove Drive\, Mooresburg\, TN\, 37811\, United States
CATEGORIES:Announcement,Board Working Session
END:VEVENT
BEGIN:VEVENT
DTSTART;TZID=America/New_York:20221203T120000
DTEND;TZID=America/New_York:20221203T160000
DTSTAMP:20260425T113517
CREATED:20221009T195751Z
LAST-MODIFIED:20221115T224154Z
UID:2801-1670068800-1670083200@legacybayhoa.org
SUMMARY:Appetizer Luncheon & Christmas Cookie Exchange
DESCRIPTION:  \n  \n  \nSORRY ...  \nThe content you are trying to access is reserved  \nfor Legacy Bay HOA members only.  \nLogin \nRequest Access \n  \n 
URL:https://legacybayhoa.org/event/appetizer-luncheon-christmas-cookie-exchange/
LOCATION:Legacy Bay Clubhouse\, 6035 Paradise Cove Drive\, Mooresburg\, TN\, 37811\, United States
CATEGORIES:Socializing
ORGANIZER;CN="Jeannie Sims":MAILTO:jeanlsims.js@gmail.com
END:VEVENT
BEGIN:VEVENT
DTSTART;TZID=America/New_York:20221209T170000
DTEND;TZID=America/New_York:20221209T220000
DTSTAMP:20260425T113517
CREATED:20221118T125426Z
LAST-MODIFIED:20221120T140930Z
UID:2850-1670605200-1670623200@legacybayhoa.org
SUMMARY:Clubhouse Reserved for Private Party (K.Heefner)
DESCRIPTION:  \n  \n  \nSORRY ...  \nThe content you are trying to access is reserved  \nfor Legacy Bay HOA members only.  \nLogin \nRequest Access \n  \n 
URL:https://legacybayhoa.org/event/clubhouse-reserved-for-private-party-k-heefner/
LOCATION:Legacy Bay Clubhouse\, 6035 Paradise Cove Drive\, Mooresburg\, TN\, 37811\, United States
END:VEVENT
BEGIN:VEVENT
DTSTART;TZID=America/New_York:20221217T170000
DTEND;TZID=America/New_York:20221217T210000
DTSTAMP:20260425T113517
CREATED:20221009T210948Z
LAST-MODIFIED:20221205T224103Z
UID:2806-1671296400-1671310800@legacybayhoa.org
SUMMARY:Legacy Bay Annual Potluck Christmas Party
DESCRIPTION:  \n  \n  \nSORRY ...  \nThe content you are trying to access is reserved  \nfor Legacy Bay HOA members only.  \nLogin \nRequest Access \n  \n 
URL:https://legacybayhoa.org/event/legacy-bay-annual-potluck-christmas-party/
LOCATION:Legacy Bay Clubhouse\, 6035 Paradise Cove Drive\, Mooresburg\, TN\, 37811\, United States
CATEGORIES:Fun & Games,Socializing
ORGANIZER;CN="Jeannie Sims":MAILTO:jeanlsims.js@gmail.com
END:VEVENT
BEGIN:VEVENT
DTSTART;TZID=America/New_York:20230119T183000
DTEND;TZID=America/New_York:20230119T203000
DTSTAMP:20260425T113517
CREATED:20221118T232117Z
LAST-MODIFIED:20221118T232117Z
UID:2853-1674153000-1674160200@legacybayhoa.org
SUMMARY:LBHOA Working Board Meeting – Open
DESCRIPTION:  \n  \n  \nSORRY ...  \nThe content you are trying to access is reserved  \nfor Legacy Bay HOA members only.  \nLogin \nRequest Access \n  \n 
URL:https://legacybayhoa.org/event/lbhoa-working-board-meeting-open-2/
LOCATION:Legacy Bay Clubhouse\, 6035 Paradise Cove Drive\, Mooresburg\, TN\, 37811\, United States
CATEGORIES:Announcement,Board Meeting,Board Working Session
ORGANIZER;CN="Legacy Bay BOD":MAILTO:bod@legacybayhoa.org
END:VEVENT
BEGIN:VEVENT
DTSTART;TZID=America/New_York:20230121T100000
DTEND;TZID=America/New_York:20230121T130000
DTSTAMP:20260425T113517
CREATED:20221208T141510Z
LAST-MODIFIED:20240706T005127Z
UID:2867-1674295200-1674306000@legacybayhoa.org
SUMMARY:CPR/AED Class
DESCRIPTION:  \n  \n  \nSORRY ...  \nThe content you are trying to access is reserved  \nfor Legacy Bay HOA members only.  \nLogin \nRequest Access \n  \n 
URL:https://legacybayhoa.org/event/cpr-aed-class/
LOCATION:Legacy Bay Clubhouse\, 6035 Paradise Cove Drive\, Mooresburg\, TN\, 37811\, United States
END:VEVENT
BEGIN:VEVENT
DTSTART;TZID=America/New_York:20230208T180000
DTEND;TZID=America/New_York:20230208T193000
DTSTAMP:20260425T113517
CREATED:20230110T204731Z
LAST-MODIFIED:20240706T005201Z
UID:2875-1675879200-1675884600@legacybayhoa.org
SUMMARY:Social Committee Meeting
DESCRIPTION:  \n  \n  \nSORRY ...  \nThe content you are trying to access is reserved  \nfor Legacy Bay HOA members only.  \nLogin \nRequest Access \n  \n 
URL:https://legacybayhoa.org/event/social-committee-meeting/
CATEGORIES:Meeting
ORGANIZER;CN="Jeannie Sims":MAILTO:jeanlsims.js@gmail.com
END:VEVENT
BEGIN:VEVENT
DTSTART;TZID=America/New_York:20230302T183000
DTEND;TZID=America/New_York:20230302T200000
DTSTAMP:20260425T113517
CREATED:20230213T192701Z
LAST-MODIFIED:20240706T004505Z
UID:2895-1677781800-1677787200@legacybayhoa.org
SUMMARY:Bingo Night with Joan P.
DESCRIPTION:  \n  \n  \nSORRY ...  \nThe content you are trying to access is reserved  \nfor Legacy Bay HOA members only.  \nLogin \nRequest Access \n  \n 
URL:https://legacybayhoa.org/event/bingo-night-with-joan-p/
CATEGORIES:Fun & Games
ORGANIZER;CN="Jeannie Sims":MAILTO:jeanlsims.js@gmail.com
END:VEVENT
BEGIN:VEVENT
DTSTART;VALUE=DATE:20230322
DTEND;VALUE=DATE:20230323
DTSTAMP:20260425T113517
CREATED:20230320T204621Z
LAST-MODIFIED:20230320T210626Z
UID:2939-1679443200-1679529599@legacybayhoa.org
SUMMARY:Clubhouse CLOSED for Painting
DESCRIPTION:  \n  \n  \nSORRY ...  \nThe content you are trying to access is reserved  \nfor Legacy Bay HOA members only.  \nLogin \nRequest Access \n  \n 
URL:https://legacybayhoa.org/event/clubhouse-closed-for-painting/
CATEGORIES:Announcement
END:VEVENT
BEGIN:VEVENT
DTSTART;TZID=America/New_York:20230401T090000
DTEND;TZID=America/New_York:20230401T120000
DTSTAMP:20260425T113517
CREATED:20230306T224355Z
LAST-MODIFIED:20240706T004608Z
UID:2931-1680339600-1680350400@legacybayhoa.org
SUMMARY:Legacy Bay Annual 2023 Spring Lake Cleanup!
DESCRIPTION:  \n  \n  \nSORRY ...  \nThe content you are trying to access is reserved  \nfor Legacy Bay HOA members only.  \nLogin \nRequest Access \n  \n 
URL:https://legacybayhoa.org/event/legacy-bay-annual-2023-spring-lake-cleanup/
CATEGORIES:Announcement,Community Volunteering
END:VEVENT
BEGIN:VEVENT
DTSTART;TZID=America/New_York:20230420T183000
DTEND;TZID=America/New_York:20230420T200000
DTSTAMP:20260425T113517
CREATED:20230320T211111Z
LAST-MODIFIED:20230320T211111Z
UID:2942-1682015400-1682020800@legacybayhoa.org
SUMMARY:LBHOA Working Board Meeting - Open
DESCRIPTION:  \n  \n  \nSORRY ...  \nThe content you are trying to access is reserved  \nfor Legacy Bay HOA members only.  \nLogin \nRequest Access \n  \n 
URL:https://legacybayhoa.org/event/lbhoa-working-board-meeting-open-3/
END:VEVENT
BEGIN:VEVENT
DTSTART;TZID=America/New_York:20230503T183000
DTEND;TZID=America/New_York:20230503T200000
DTSTAMP:20260425T113517
CREATED:20230503T103025Z
LAST-MODIFIED:20240706T004721Z
UID:2992-1683138600-1683144000@legacybayhoa.org
SUMMARY:Social Committee Meeting
DESCRIPTION:  \n  \n  \nSORRY ...  \nThe content you are trying to access is reserved  \nfor Legacy Bay HOA members only.  \nLogin \nRequest Access \n  \n 
URL:https://legacybayhoa.org/event/social-committee-meeting-2/
LOCATION:Legacy Bay Clubhouse\, 6035 Paradise Cove Drive\, Mooresburg\, TN\, 37811\, United States
CATEGORIES:Committee Meeting
END:VEVENT
BEGIN:VEVENT
DTSTART;TZID=America/New_York:20230513T140000
DTEND;TZID=America/New_York:20230513T180000
DTSTAMP:20260425T113517
CREATED:20230327T203549Z
LAST-MODIFIED:20240706T004802Z
UID:2947-1683986400-1684000800@legacybayhoa.org
SUMMARY:Clubhouse Closed - Private Party (Christophe Benichou)
DESCRIPTION:  \n  \n  \nSORRY ...  \nThe content you are trying to access is reserved  \nfor Legacy Bay HOA members only.  \nLogin \nRequest Access \n  \n 
URL:https://legacybayhoa.org/event/clubhouse-closed-private-party/
CATEGORIES:Announcement
END:VEVENT
BEGIN:VEVENT
DTSTART;TZID=America/New_York:20230520T090000
DTEND;TZID=America/New_York:20230520T110000
DTSTAMP:20260425T113517
CREATED:20230213T195005Z
LAST-MODIFIED:20240706T004850Z
UID:2901-1684573200-1684580400@legacybayhoa.org
SUMMARY:Pancake Breakfast
DESCRIPTION:  \n  \n  \nSORRY ...  \nThe content you are trying to access is reserved  \nfor Legacy Bay HOA members only.  \nLogin \nRequest Access \n  \n 
URL:https://legacybayhoa.org/event/pancake-breakfast/
CATEGORIES:Socializing
ORGANIZER;CN="Jeannie Sims":MAILTO:jeanlsims.js@gmail.com
END:VEVENT
BEGIN:VEVENT
DTSTART;TZID=America/New_York:20230603T160000
DTEND;TZID=America/New_York:20230603T210000
DTSTAMP:20260425T113517
CREATED:20230419T234107Z
LAST-MODIFIED:20230419T234107Z
UID:2972-1685808000-1685826000@legacybayhoa.org
SUMMARY:Clubhouse Reserved for Private Party (D. Mooneyham)
DESCRIPTION:  \n  \n  \nSORRY ...  \nThe content you are trying to access is reserved  \nfor Legacy Bay HOA members only.  \nLogin \nRequest Access \n  \n 
URL:https://legacybayhoa.org/event/clubhouse-reserved-for-private-party-d-mooneyham/
END:VEVENT
BEGIN:VEVENT
DTSTART;TZID=America/New_York:20230624T100000
DTEND;TZID=America/New_York:20230624T100000
DTSTAMP:20260425T113517
CREATED:20230620T195602Z
LAST-MODIFIED:20230620T195602Z
UID:3004-1687600800-1687600800@legacybayhoa.org
SUMMARY:Free Pickleball Clinic
DESCRIPTION:  \n  \n  \nSORRY ...  \nThe content you are trying to access is reserved  \nfor Legacy Bay HOA members only.  \nLogin \nRequest Access \n  \n 
URL:https://legacybayhoa.org/event/free-pickleball-clinic/
LOCATION:Legacy Bay Clubhouse\, 6035 Paradise Cove Drive\, Mooresburg\, TN\, 37811\, United States
END:VEVENT
BEGIN:VEVENT
DTSTART;TZID=America/New_York:20230628T180000
DTEND;TZID=America/New_York:20230628T200000
DTSTAMP:20260425T113517
CREATED:20230626T174758Z
LAST-MODIFIED:20230626T175226Z
UID:3026-1687975200-1687982400@legacybayhoa.org
SUMMARY:Clubhouse reserved for private event 6pm to 8pm (KHeefner)
DESCRIPTION:  \n  \n  \nSORRY ...  \nThe content you are trying to access is reserved  \nfor Legacy Bay HOA members only.  \nLogin \nRequest Access \n  \n 
URL:https://legacybayhoa.org/event/clubhouse-reserved-for-private-event-6pm-to-8pm-kheefner/
LOCATION:Legacy Bay Clubhouse\, 6035 Paradise Cove Drive\, Mooresburg\, TN\, 37811\, United States
END:VEVENT
BEGIN:VEVENT
DTSTART;TZID=America/New_York:20230703T184500
DTEND;TZID=America/New_York:20230703T200000
DTSTAMP:20260425T113517
CREATED:20230213T200327Z
LAST-MODIFIED:20230621T222957Z
UID:2910-1688409900-1688414400@legacybayhoa.org
SUMMARY:LEGACY BAY ANNUAL GOLF CART/BIKE PARADE
DESCRIPTION:  \n  \n  \nSORRY ...  \nThe content you are trying to access is reserved  \nfor Legacy Bay HOA members only.  \nLogin \nRequest Access \n  \n 
URL:https://legacybayhoa.org/event/fourth-of-july-parade-tentative/
LOCATION:Legacy Bay Clubhouse\, 6035 Paradise Cove Drive\, Mooresburg\, TN\, 37811\, United States
CATEGORIES:Socializing
ORGANIZER;CN="Jeannie Sims":MAILTO:jeanlsims.js@gmail.com
END:VEVENT
BEGIN:VEVENT
DTSTART;TZID=America/New_York:20230711T183000
DTEND;TZID=America/New_York:20230711T200000
DTSTAMP:20260425T113517
CREATED:20230627T215000Z
LAST-MODIFIED:20240706T003935Z
UID:3032-1689100200-1689105600@legacybayhoa.org
SUMMARY:Social Committe Meeting
DESCRIPTION:  \n  \n  \nSORRY ...  \nThe content you are trying to access is reserved  \nfor Legacy Bay HOA members only.  \nLogin \nRequest Access \n  \n 
URL:https://legacybayhoa.org/event/social-committe-meeting/
CATEGORIES:Committee Meeting
ORGANIZER;CN="Jeannie Sims":MAILTO:jeanlsims.js@gmail.com
END:VEVENT
BEGIN:VEVENT
DTSTART;TZID=America/New_York:20230805T103000
DTEND;TZID=America/New_York:20230805T103000
DTSTAMP:20260425T113517
CREATED:20230213T200435Z
LAST-MODIFIED:20230620T195836Z
UID:2912-1691231400-1691231400@legacybayhoa.org
SUMMARY:Annual Meeting
DESCRIPTION:  \n  \n  \nSORRY ...  \nThe content you are trying to access is reserved  \nfor Legacy Bay HOA members only.  \nLogin \nRequest Access \n  \n 
URL:https://legacybayhoa.org/event/annual-meeting-time-tbd/
CATEGORIES:Board Meeting
ORGANIZER;CN="Legacy Bay BOD":MAILTO:bod@legacybayhoa.org
END:VEVENT
END:VCALENDAR