BEGIN:VCALENDAR
VERSION:2.0
PRODID:-//Legacy Bay HOA - ECPv6.15.20//NONSGML v1.0//EN
CALSCALE:GREGORIAN
METHOD:PUBLISH
X-WR-CALNAME:Legacy Bay HOA
X-ORIGINAL-URL:https://legacybayhoa.org
X-WR-CALDESC:Events for Legacy Bay HOA
REFRESH-INTERVAL;VALUE=DURATION:PT1H
X-Robots-Tag:noindex
X-PUBLISHED-TTL:PT1H
BEGIN:VTIMEZONE
TZID:America/New_York
BEGIN:DAYLIGHT
TZOFFSETFROM:-0500
TZOFFSETTO:-0400
TZNAME:EDT
DTSTART:20230312T070000
END:DAYLIGHT
BEGIN:STANDARD
TZOFFSETFROM:-0400
TZOFFSETTO:-0500
TZNAME:EST
DTSTART:20231105T060000
END:STANDARD
BEGIN:DAYLIGHT
TZOFFSETFROM:-0500
TZOFFSETTO:-0400
TZNAME:EDT
DTSTART:20240310T070000
END:DAYLIGHT
BEGIN:STANDARD
TZOFFSETFROM:-0400
TZOFFSETTO:-0500
TZNAME:EST
DTSTART:20241103T060000
END:STANDARD
BEGIN:DAYLIGHT
TZOFFSETFROM:-0500
TZOFFSETTO:-0400
TZNAME:EDT
DTSTART:20250309T070000
END:DAYLIGHT
BEGIN:STANDARD
TZOFFSETFROM:-0400
TZOFFSETTO:-0500
TZNAME:EST
DTSTART:20251102T060000
END:STANDARD
BEGIN:DAYLIGHT
TZOFFSETFROM:-0500
TZOFFSETTO:-0400
TZNAME:EDT
DTSTART:20260308T070000
END:DAYLIGHT
BEGIN:STANDARD
TZOFFSETFROM:-0400
TZOFFSETTO:-0500
TZNAME:EST
DTSTART:20261101T060000
END:STANDARD
BEGIN:DAYLIGHT
TZOFFSETFROM:-0500
TZOFFSETTO:-0400
TZNAME:EDT
DTSTART:20270314T070000
END:DAYLIGHT
BEGIN:STANDARD
TZOFFSETFROM:-0400
TZOFFSETTO:-0500
TZNAME:EST
DTSTART:20271107T060000
END:STANDARD
END:VTIMEZONE
BEGIN:VEVENT
DTSTART;TZID=America/New_York:20260214T190000
DTEND;TZID=America/New_York:20260214T210000
DTSTAMP:20260425T111520
CREATED:20260111T204312Z
LAST-MODIFIED:20260207T180942Z
UID:3817-1771095600-1771102800@legacybayhoa.org
SUMMARY:Valentine's Day Potluck
DESCRIPTION:  \n  \n  \nSORRY ...  \nThe content you are trying to access is reserved  \nfor Legacy Bay HOA members only.  \nLogin \nRequest Access \n  \n 
URL:https://legacybayhoa.org/event/valentines-day-potluck/
ORGANIZER;CN="Jeannie Sims":MAILTO:jeanlsims.js@gmail.com
END:VEVENT
BEGIN:VEVENT
DTSTART;TZID=America/New_York:20260120T183000
DTEND;TZID=America/New_York:20260120T210000
DTSTAMP:20260425T111520
CREATED:20260107T202142Z
LAST-MODIFIED:20260111T210845Z
UID:3807-1768933800-1768942800@legacybayhoa.org
SUMMARY:Free Winter Bingo
DESCRIPTION:  \n  \n  \nSORRY ...  \nThe content you are trying to access is reserved  \nfor Legacy Bay HOA members only.  \nLogin \nRequest Access \n  \n 
URL:https://legacybayhoa.org/event/free-winter-bingo/
ORGANIZER;CN="Jeannie Sims":MAILTO:jeanlsims.js@gmail.com
END:VEVENT
BEGIN:VEVENT
DTSTART;TZID=America/New_York:20260106T183000
DTEND;TZID=America/New_York:20260106T193000
DTSTAMP:20260425T111520
CREATED:20260102T184315Z
LAST-MODIFIED:20260107T011050Z
UID:3803-1767724200-1767727800@legacybayhoa.org
SUMMARY:Social Committee Meeting
DESCRIPTION:  \n  \n  \nSORRY ...  \nThe content you are trying to access is reserved  \nfor Legacy Bay HOA members only.  \nLogin \nRequest Access \n  \n 
URL:https://legacybayhoa.org/event/social-committee-meeting-10/
ORGANIZER;CN="Jeannie Sims":MAILTO:jeanlsims.js@gmail.com
END:VEVENT
BEGIN:VEVENT
DTSTART;TZID=America/New_York:20251206T120000
DTEND;TZID=America/New_York:20251206T160000
DTSTAMP:20260425T111520
CREATED:20250823T184735Z
LAST-MODIFIED:20251118T210256Z
UID:3755-1765022400-1765036800@legacybayhoa.org
SUMMARY:LB Annual Luncheon and Cookie Exchange
DESCRIPTION:  \n  \n  \nSORRY ...  \nThe content you are trying to access is reserved  \nfor Legacy Bay HOA members only.  \nLogin \nRequest Access \n  \n 
URL:https://legacybayhoa.org/event/lb-annual-luncheon-and-cookie-exchange/
END:VEVENT
BEGIN:VEVENT
DTSTART;TZID=America/New_York:20251205T170000
DTEND;TZID=America/New_York:20251205T230000
DTSTAMP:20260425T111520
CREATED:20250922T172543Z
LAST-MODIFIED:20250922T172543Z
UID:3777-1764954000-1764975600@legacybayhoa.org
SUMMARY:RESERVED for Kris Heefner - Private Event
DESCRIPTION:  \n  \n  \nSORRY ...  \nThe content you are trying to access is reserved  \nfor Legacy Bay HOA members only.  \nLogin \nRequest Access \n  \n 
URL:https://legacybayhoa.org/event/reserved-for-kris-heefner-private-event-2/
CATEGORIES:Private Event
END:VEVENT
BEGIN:VEVENT
DTSTART;TZID=America/New_York:20251204T183000
DTEND;TZID=America/New_York:20251204T190000
DTSTAMP:20260425T111520
CREATED:20251118T205638Z
LAST-MODIFIED:20251118T205647Z
UID:3789-1764873000-1764874800@legacybayhoa.org
SUMMARY:Social Committee Meeting
DESCRIPTION:  \n  \n  \nSORRY ...  \nThe content you are trying to access is reserved  \nfor Legacy Bay HOA members only.  \nLogin \nRequest Access \n  \n 
URL:https://legacybayhoa.org/event/social-committee-meeting-9/
ORGANIZER;CN="Jeannie Sims":MAILTO:jeanlsims.js@gmail.com
END:VEVENT
BEGIN:VEVENT
DTSTART;TZID=America/New_York:20251115T180000
DTEND;TZID=America/New_York:20251115T200000
DTSTAMP:20260425T111520
CREATED:20250823T183243Z
LAST-MODIFIED:20251104T164020Z
UID:3750-1763229600-1763236800@legacybayhoa.org
SUMMARY:WARM-UP WITH OUR "SOUPER SUPPER" Event
DESCRIPTION:  \n  \n  \nSORRY ...  \nThe content you are trying to access is reserved  \nfor Legacy Bay HOA members only.  \nLogin \nRequest Access \n  \n 
URL:https://legacybayhoa.org/event/sharing-and-caring-event/
ORGANIZER;CN="Jeannie Sims":MAILTO:jeanlsims.js@gmail.com
END:VEVENT
BEGIN:VEVENT
DTSTART;TZID=America/New_York:20251108T130000
DTEND;TZID=America/New_York:20251108T170000
DTSTAMP:20260425T111520
CREATED:20250819T205814Z
LAST-MODIFIED:20250819T205814Z
UID:3727-1762606800-1762621200@legacybayhoa.org
SUMMARY:Private Event
DESCRIPTION:  \n  \n  \nSORRY ...  \nThe content you are trying to access is reserved  \nfor Legacy Bay HOA members only.  \nLogin \nRequest Access \n  \n 
URL:https://legacybayhoa.org/event/private-event-3/
END:VEVENT
BEGIN:VEVENT
DTSTART;TZID=America/New_York:20251101T180000
DTEND;TZID=America/New_York:20251101T210000
DTSTAMP:20260425T111520
CREATED:20250822T131451Z
LAST-MODIFIED:20251028T145044Z
UID:3734-1762020000-1762030800@legacybayhoa.org
SUMMARY:Halloween Costume Party
DESCRIPTION:  \n  \n  \nSORRY ...  \nThe content you are trying to access is reserved  \nfor Legacy Bay HOA members only.  \nLogin \nRequest Access \n  \n 
URL:https://legacybayhoa.org/event/halloween-costume-party/
LOCATION:Legacy Bay Clubhouse\, 6035 Paradise Cove Drive\, Mooresburg\, TN\, 37811\, United States
ORGANIZER;CN="Jeannie Sims":MAILTO:jeanlsims.js@gmail.com
END:VEVENT
BEGIN:VEVENT
DTSTART;TZID=America/New_York:20250927T160000
DTEND;TZID=America/New_York:20250927T190000
DTSTAMP:20260425T111520
CREATED:20250816T182503Z
LAST-MODIFIED:20250824T185951Z
UID:3720-1758988800-1758999600@legacybayhoa.org
SUMMARY:Legacy Bay Annual Picnic
DESCRIPTION:  \n  \n  \nSORRY ...  \nThe content you are trying to access is reserved  \nfor Legacy Bay HOA members only.  \nLogin \nRequest Access \n  \n 
URL:https://legacybayhoa.org/event/legacy-bay-annual-picnic/
ORGANIZER;CN="Jeannie Sims":MAILTO:jeanlsims.js@gmail.com
END:VEVENT
BEGIN:VEVENT
DTSTART;TZID=America/New_York:20250925T183000
DTEND;TZID=America/New_York:20250925T193000
DTSTAMP:20260425T111520
CREATED:20250917T202835Z
LAST-MODIFIED:20250917T202835Z
UID:3771-1758825000-1758828600@legacybayhoa.org
SUMMARY:Social Committee Meeting
DESCRIPTION:  \n  \n  \nSORRY ...  \nThe content you are trying to access is reserved  \nfor Legacy Bay HOA members only.  \nLogin \nRequest Access \n  \n 
URL:https://legacybayhoa.org/event/social-committee-meeting-8/
LOCATION:Legacy Bay Clubhouse\, 6035 Paradise Cove Drive\, Mooresburg\, TN\, 37811\, United States
ORGANIZER;CN="Jeannie Sims":MAILTO:jeanlsims.js@gmail.com
END:VEVENT
BEGIN:VEVENT
DTSTART;TZID=America/New_York:20250828T183000
DTEND;TZID=America/New_York:20250828T200000
DTSTAMP:20260425T111520
CREATED:20250822T130815Z
LAST-MODIFIED:20250822T130815Z
UID:3730-1756405800-1756411200@legacybayhoa.org
SUMMARY:Fall - Free Bingo
DESCRIPTION:  \n  \n  \nSORRY ...  \nThe content you are trying to access is reserved  \nfor Legacy Bay HOA members only.  \nLogin \nRequest Access \n  \n 
URL:https://legacybayhoa.org/event/fall-free-bingo/
END:VEVENT
BEGIN:VEVENT
DTSTART;TZID=America/New_York:20250819T183000
DTEND;TZID=America/New_York:20250819T193000
DTSTAMP:20260425T111520
CREATED:20250806T171836Z
LAST-MODIFIED:20250816T180223Z
UID:3695-1755628200-1755631800@legacybayhoa.org
SUMMARY:Social Committee Meeting
DESCRIPTION:  \n  \n  \nSORRY ...  \nThe content you are trying to access is reserved  \nfor Legacy Bay HOA members only.  \nLogin \nRequest Access \n  \n 
URL:https://legacybayhoa.org/event/social-committee-meeting-7/
ORGANIZER;CN="Jeannie Sims":MAILTO:jeanlsims.js@gmail.com
END:VEVENT
BEGIN:VEVENT
DTSTART;TZID=America/New_York:20250817T150000
DTEND;TZID=America/New_York:20250817T200000
DTSTAMP:20260425T111520
CREATED:20250602T214800Z
LAST-MODIFIED:20250718T182358Z
UID:3582-1755442800-1755460800@legacybayhoa.org
SUMMARY:Reserved for Private Event by Kathy Maysilles
DESCRIPTION:  \n  \n  \nSORRY ...  \nThe content you are trying to access is reserved  \nfor Legacy Bay HOA members only.  \nLogin \nRequest Access \n  \n 
URL:https://legacybayhoa.org/event/reserved-for-private-event-by-kathy-maysilles-2/
END:VEVENT
BEGIN:VEVENT
DTSTART;TZID=America/New_York:20250802T103000
DTEND;TZID=America/New_York:20250802T120000
DTSTAMP:20260425T111520
CREATED:20250713T125826Z
LAST-MODIFIED:20250713T125826Z
UID:3673-1754130600-1754136000@legacybayhoa.org
SUMMARY:ANNUAL MEETING
DESCRIPTION:  \n  \n  \nSORRY ...  \nThe content you are trying to access is reserved  \nfor Legacy Bay HOA members only.  \nLogin \nRequest Access \n  \n 
URL:https://legacybayhoa.org/event/annual-meeting/
LOCATION:Legacy Bay Clubhouse\, 6035 Paradise Cove Drive\, Mooresburg\, TN\, 37811\, United States
END:VEVENT
BEGIN:VEVENT
DTSTART;TZID=America/New_York:20250726T113000
DTEND;TZID=America/New_York:20250726T143000
DTSTAMP:20260425T111520
CREATED:20250703T013333Z
LAST-MODIFIED:20250703T013333Z
UID:3628-1753529400-1753540200@legacybayhoa.org
SUMMARY:Private Event
DESCRIPTION:  \n  \n  \nSORRY ...  \nThe content you are trying to access is reserved  \nfor Legacy Bay HOA members only.  \nLogin \nRequest Access \n  \n 
URL:https://legacybayhoa.org/event/private-event/
END:VEVENT
BEGIN:VEVENT
DTSTART;TZID=America/New_York:20250720T150000
DTEND;TZID=America/New_York:20250720T200000
DTSTAMP:20260425T111520
CREATED:20250718T181622Z
LAST-MODIFIED:20250718T181622Z
UID:3685-1753023600-1753041600@legacybayhoa.org
SUMMARY:Private Event
DESCRIPTION:  \n  \n  \nSORRY ...  \nThe content you are trying to access is reserved  \nfor Legacy Bay HOA members only.  \nLogin \nRequest Access \n  \n 
URL:https://legacybayhoa.org/event/private-event-2/
ORGANIZER;CN="Jeannie Sims":MAILTO:jeanlsims.js@gmail.com
END:VEVENT
BEGIN:VEVENT
DTSTART;TZID=America/New_York:20250704T143000
DTEND;TZID=America/New_York:20250704T170000
DTSTAMP:20260425T111520
CREATED:20250625T180208Z
LAST-MODIFIED:20250625T181329Z
UID:3597-1751639400-1751648400@legacybayhoa.org
SUMMARY:LB 4th of July Cart/Bike Parade
DESCRIPTION:  \n  \n  \nSORRY ...  \nThe content you are trying to access is reserved  \nfor Legacy Bay HOA members only.  \nLogin \nRequest Access \n  \n 
URL:https://legacybayhoa.org/event/lb-4th-of-july-cart-bike-parade/
ORGANIZER;CN="Jeannie Sims":MAILTO:jeanlsims.js@gmail.com
END:VEVENT
BEGIN:VEVENT
DTSTART;TZID=America/New_York:20250629T150000
DTEND;TZID=America/New_York:20250629T200000
DTSTAMP:20260425T111520
CREATED:20250602T213956Z
LAST-MODIFIED:20250602T213956Z
UID:3577-1751209200-1751227200@legacybayhoa.org
SUMMARY:Reserved for Private Event by Kathy Maysilles
DESCRIPTION:  \n  \n  \nSORRY ...  \nThe content you are trying to access is reserved  \nfor Legacy Bay HOA members only.  \nLogin \nRequest Access \n  \n 
URL:https://legacybayhoa.org/event/reserved-for-private-event-by-kathy-maysilles/
END:VEVENT
BEGIN:VEVENT
DTSTART;TZID=America/New_York:20250627T180000
DTEND;TZID=America/New_York:20250627T210000
DTSTAMP:20260425T111520
CREATED:20250612T205537Z
LAST-MODIFIED:20250612T205614Z
UID:3589-1751047200-1751058000@legacybayhoa.org
SUMMARY:RESERVED FOR KRIS HEEFNER - Private Event
DESCRIPTION:  \n  \n  \nSORRY ...  \nThe content you are trying to access is reserved  \nfor Legacy Bay HOA members only.  \nLogin \nRequest Access \n  \n 
URL:https://legacybayhoa.org/event/reserved-for-kris-heefner-private-event/
LOCATION:Legacy Bay Clubhouse\, 6035 Paradise Cove Drive\, Mooresburg\, TN\, 37811\, United States
END:VEVENT
BEGIN:VEVENT
DTSTART;TZID=America/New_York:20250624T183000
DTEND;TZID=America/New_York:20250624T193000
DTSTAMP:20260425T111520
CREATED:20250623T225122Z
LAST-MODIFIED:20250623T225122Z
UID:3595-1750789800-1750793400@legacybayhoa.org
SUMMARY:Social Committee Meeting
DESCRIPTION:  \n  \n  \nSORRY ...  \nThe content you are trying to access is reserved  \nfor Legacy Bay HOA members only.  \nLogin \nRequest Access \n  \n 
URL:https://legacybayhoa.org/event/social-committee-meeting-6/
LOCATION:Legacy Bay Clubhouse\, 6035 Paradise Cove Drive\, Mooresburg\, TN\, 37811\, United States
ORGANIZER;CN="Jeannie Sims":MAILTO:jeanlsims.js@gmail.com
END:VEVENT
BEGIN:VEVENT
DTSTART;TZID=America/New_York:20250620T100000
DTEND;TZID=America/New_York:20250620T170000
DTSTAMP:20260425T111520
CREATED:20250520T174459Z
LAST-MODIFIED:20250520T174545Z
UID:3558-1750413600-1750438800@legacybayhoa.org
SUMMARY:Private Party - Kathy Maysilles
DESCRIPTION:  \n  \n  \nSORRY ...  \nThe content you are trying to access is reserved  \nfor Legacy Bay HOA members only.  \nLogin \nRequest Access \n  \n 
URL:https://legacybayhoa.org/event/private-party-kathy-maysilles/
LOCATION:Legacy Bay Clubhouse\, 6035 Paradise Cove Drive\, Mooresburg\, TN\, 37811\, United States
END:VEVENT
BEGIN:VEVENT
DTSTART;TZID=America/New_York:20250619T183000
DTEND;TZID=America/New_York:20250619T203000
DTSTAMP:20260425T111520
CREATED:20250530T190749Z
LAST-MODIFIED:20250530T190909Z
UID:3568-1750357800-1750365000@legacybayhoa.org
SUMMARY:Free Summer Bingo
DESCRIPTION:  \n  \n  \nSORRY ...  \nThe content you are trying to access is reserved  \nfor Legacy Bay HOA members only.  \nLogin \nRequest Access \n  \n 
URL:https://legacybayhoa.org/event/summer-bingo/
CATEGORIES:Fun & Games
ORGANIZER;CN="Jeannie Sims":MAILTO:jeanlsims.js@gmail.com
END:VEVENT
BEGIN:VEVENT
DTSTART;TZID=America/New_York:20250503T173000
DTEND;TZID=America/New_York:20250503T220000
DTSTAMP:20260425T111520
CREATED:20250320T193931Z
LAST-MODIFIED:20250320T193931Z
UID:3544-1746293400-1746309600@legacybayhoa.org
SUMMARY:Legacy Bay Kentucky Derby Chili Cookoff
DESCRIPTION:  \n  \n  \nSORRY ...  \nThe content you are trying to access is reserved  \nfor Legacy Bay HOA members only.  \nLogin \nRequest Access \n  \n 
URL:https://legacybayhoa.org/event/legacy-bay-kentucky-derby-chili-cookoff/
CATEGORIES:Meals
END:VEVENT
BEGIN:VEVENT
DTSTART;TZID=America/New_York:20250426T100000
DTEND;TZID=America/New_York:20250426T170000
DTSTAMP:20260425T111520
CREATED:20250408T151127Z
LAST-MODIFIED:20250408T151136Z
UID:3548-1745661600-1745686800@legacybayhoa.org
SUMMARY:Private Party
DESCRIPTION:  \n  \n  \nSORRY ...  \nThe content you are trying to access is reserved  \nfor Legacy Bay HOA members only.  \nLogin \nRequest Access \n  \n 
URL:https://legacybayhoa.org/event/private-party-4/
END:VEVENT
BEGIN:VEVENT
DTSTART;TZID=America/New_York:20250315T180000
DTEND;TZID=America/New_York:20250315T210000
DTSTAMP:20260425T111520
CREATED:20250126T200004Z
LAST-MODIFIED:20250303T163051Z
UID:3515-1742061600-1742072400@legacybayhoa.org
SUMMARY:LB St. Patrick's Day Party
DESCRIPTION:  \n  \n  \nSORRY ...  \nThe content you are trying to access is reserved  \nfor Legacy Bay HOA members only.  \nLogin \nRequest Access \n  \n 
URL:https://legacybayhoa.org/event/st-patricks-day-party/
LOCATION:Legacy Bay Clubhouse\, 6035 Paradise Cove Drive\, Mooresburg\, TN\, 37811\, United States
ORGANIZER;CN="Jeannie Sims":MAILTO:jeanlsims.js@gmail.com
END:VEVENT
BEGIN:VEVENT
DTSTART;TZID=America/New_York:20250204T183000
DTEND;TZID=America/New_York:20250204T203000
DTSTAMP:20260425T111520
CREATED:20250121T191706Z
LAST-MODIFIED:20250126T184103Z
UID:3502-1738693800-1738701000@legacybayhoa.org
SUMMARY:FREE Bingo Night
DESCRIPTION:  \n  \n  \nSORRY ...  \nThe content you are trying to access is reserved  \nfor Legacy Bay HOA members only.  \nLogin \nRequest Access \n  \n 
URL:https://legacybayhoa.org/event/free-bingo-night/
LOCATION:Legacy Bay Clubhouse\, 6035 Paradise Cove Drive\, Mooresburg\, TN\, 37811\, United States
ORGANIZER;CN="Jeannie Sims":MAILTO:jeanlsims.js@gmail.com
END:VEVENT
BEGIN:VEVENT
DTSTART;TZID=America/New_York:20250118T110000
DTEND;TZID=America/New_York:20250118T120000
DTSTAMP:20260425T111520
CREATED:20250117T203847Z
LAST-MODIFIED:20250117T203847Z
UID:3500-1737198000-1737201600@legacybayhoa.org
SUMMARY:2025 Social Committee Meeting
DESCRIPTION:  \n  \n  \nSORRY ...  \nThe content you are trying to access is reserved  \nfor Legacy Bay HOA members only.  \nLogin \nRequest Access \n  \n 
URL:https://legacybayhoa.org/event/2025-social-committee-meeting/
LOCATION:Legacy Bay Clubhouse\, 6035 Paradise Cove Drive\, Mooresburg\, TN\, 37811\, United States
ORGANIZER;CN="Jeannie Sims":MAILTO:jeanlsims.js@gmail.com
END:VEVENT
BEGIN:VEVENT
DTSTART;TZID=America/New_York:20241214T170000
DTEND;TZID=America/New_York:20241214T220000
DTSTAMP:20260425T111520
CREATED:20241027T164813Z
LAST-MODIFIED:20241027T164813Z
UID:3427-1734195600-1734213600@legacybayhoa.org
SUMMARY:Reserved for private event by Kris Heefner
DESCRIPTION:  \n  \n  \nSORRY ...  \nThe content you are trying to access is reserved  \nfor Legacy Bay HOA members only.  \nLogin \nRequest Access \n  \n 
URL:https://legacybayhoa.org/event/reserved-for-private-event-by-kris-heefner/
LOCATION:Legacy Bay Clubhouse\, 6035 Paradise Cove Drive\, Mooresburg\, TN\, 37811\, United States
END:VEVENT
BEGIN:VEVENT
DTSTART;TZID=America/New_York:20241214T140000
DTEND;TZID=America/New_York:20241214T160000
DTSTAMP:20260425T111520
CREATED:20241107T190458Z
LAST-MODIFIED:20241205T214444Z
UID:3439-1734184800-1734192000@legacybayhoa.org
SUMMARY:Christmas Open Houses
DESCRIPTION:  \n  \n  \nSORRY ...  \nThe content you are trying to access is reserved  \nfor Legacy Bay HOA members only.  \nLogin \nRequest Access \n  \n 
URL:https://legacybayhoa.org/event/christmas-open-houses/
LOCATION:LB Homes
CATEGORIES:Socializing
END:VEVENT
END:VCALENDAR