BEGIN:VCALENDAR
VERSION:2.0
PRODID:-//Legacy Bay HOA - ECPv6.15.20//NONSGML v1.0//EN
CALSCALE:GREGORIAN
METHOD:PUBLISH
X-WR-CALNAME:Legacy Bay HOA
X-ORIGINAL-URL:https://legacybayhoa.org
X-WR-CALDESC:Events for Legacy Bay HOA
REFRESH-INTERVAL;VALUE=DURATION:PT1H
X-Robots-Tag:noindex
X-PUBLISHED-TTL:PT1H
BEGIN:VTIMEZONE
TZID:America/New_York
BEGIN:DAYLIGHT
TZOFFSETFROM:-0500
TZOFFSETTO:-0400
TZNAME:EDT
DTSTART:20210314T070000
END:DAYLIGHT
BEGIN:STANDARD
TZOFFSETFROM:-0400
TZOFFSETTO:-0500
TZNAME:EST
DTSTART:20211107T060000
END:STANDARD
BEGIN:DAYLIGHT
TZOFFSETFROM:-0500
TZOFFSETTO:-0400
TZNAME:EDT
DTSTART:20220313T070000
END:DAYLIGHT
BEGIN:STANDARD
TZOFFSETFROM:-0400
TZOFFSETTO:-0500
TZNAME:EST
DTSTART:20221106T060000
END:STANDARD
BEGIN:DAYLIGHT
TZOFFSETFROM:-0500
TZOFFSETTO:-0400
TZNAME:EDT
DTSTART:20230312T070000
END:DAYLIGHT
BEGIN:STANDARD
TZOFFSETFROM:-0400
TZOFFSETTO:-0500
TZNAME:EST
DTSTART:20231105T060000
END:STANDARD
END:VTIMEZONE
BEGIN:VEVENT
DTSTART;TZID=America/New_York:20221015T170000
DTEND;TZID=America/New_York:20221015T200000
DTSTAMP:20260424T174649
CREATED:20220917T153321Z
LAST-MODIFIED:20221010T195330Z
UID:2713-1665853200-1665864000@legacybayhoa.org
SUMMARY:Volunteer Appreciation Picnic
DESCRIPTION:  \n  \n  \nSORRY ...  \nThe content you are trying to access is reserved  \nfor Legacy Bay HOA members only.  \nLogin \nRequest Access \n  \n 
URL:https://legacybayhoa.org/event/volunteer-appreciation-picnic/
LOCATION:Legacy Bay Clubhouse\, 6035 Paradise Cove Drive\, Mooresburg\, TN\, 37811\, United States
CATEGORIES:Fun & Games,Socializing
END:VEVENT
END:VCALENDAR