BEGIN:VCALENDAR
VERSION:2.0
PRODID:-//Legacy Bay HOA - ECPv6.15.20//NONSGML v1.0//EN
CALSCALE:GREGORIAN
METHOD:PUBLISH
X-WR-CALNAME:Legacy Bay HOA
X-ORIGINAL-URL:https://legacybayhoa.org
X-WR-CALDESC:Events for Legacy Bay HOA
REFRESH-INTERVAL;VALUE=DURATION:PT1H
X-Robots-Tag:noindex
X-PUBLISHED-TTL:PT1H
BEGIN:VTIMEZONE
TZID:America/New_York
BEGIN:DAYLIGHT
TZOFFSETFROM:-0500
TZOFFSETTO:-0400
TZNAME:EDT
DTSTART:20210314T070000
END:DAYLIGHT
BEGIN:STANDARD
TZOFFSETFROM:-0400
TZOFFSETTO:-0500
TZNAME:EST
DTSTART:20211107T060000
END:STANDARD
BEGIN:DAYLIGHT
TZOFFSETFROM:-0500
TZOFFSETTO:-0400
TZNAME:EDT
DTSTART:20220313T070000
END:DAYLIGHT
BEGIN:STANDARD
TZOFFSETFROM:-0400
TZOFFSETTO:-0500
TZNAME:EST
DTSTART:20221106T060000
END:STANDARD
BEGIN:DAYLIGHT
TZOFFSETFROM:-0500
TZOFFSETTO:-0400
TZNAME:EDT
DTSTART:20230312T070000
END:DAYLIGHT
BEGIN:STANDARD
TZOFFSETFROM:-0400
TZOFFSETTO:-0500
TZNAME:EST
DTSTART:20231105T060000
END:STANDARD
END:VTIMEZONE
BEGIN:VEVENT
DTSTART;VALUE=DATE:20221014
DTEND;VALUE=DATE:20221015
DTSTAMP:20260424T190431
CREATED:20220921T185350Z
LAST-MODIFIED:20220921T191458Z
UID:2730-1665705600-1665791999@legacybayhoa.org
SUMMARY:Pool Closing
DESCRIPTION:  \n  \n  \nSORRY ...  \nThe content you are trying to access is reserved  \nfor Legacy Bay HOA members only.  \nLogin \nRequest Access \n  \n 
URL:https://legacybayhoa.org/event/pool-closing/
LOCATION:Legacy Bay Pool\, 6035 Paradise Cove Dr\, Mooresburg\, TN\, 37811\, United States
CATEGORIES:Announcement
END:VEVENT
END:VCALENDAR